BEGIN:VCALENDAR
VERSION:2.0
PRODID:Events Booking
BEGIN:VEVENT
UID:69ecf11e86636
SUMMARY:Business analýza informačních systémů (BA-2602)
DESCRIPTION:Business analýza je velmi náročná a komplexní disciplína\
 , která vyžaduje mnoho znalostí a dovedností. Dobrý business analytik
  potřebuje znát konkrétní prostředí i obecné metody a přístupy k 
 řešení svých úloh. Které úlohy to jsou a jaké jsou osvědčené ne
 jlepší praxe\, to si projdeme a vysvětlíme v první den tohoto kurzu.
LOCATION:Hodonínská 1090/4\, Prague\, 14100 Prague\, Czech Republic
DTSTART:20260518T070000Z
DTEND:20260520T150000Z
DTSTAMP:20260317T103534Z
ORGANIZER;CN=sabi consulting s.r.o.:MAILTO:news@sabi-consulting.cz
GEO:50.046499;14.459633
X-APPLE-STRUCTURED-LOCATION;VALUE=URI;X-ADDRESS=Hodonínská 1090/4\, Pragu
 e\, 14100 Prague\, Czech Republic;X-APPLE-RADIUS=72;X-TITLE=sabi uHUB:50.0
 46499;14.459633
END:VEVENT
END:VCALENDAR